BEGIN:VCALENDAR
VERSION:2.0
PRODID:-//UPS - ECPv6.15.20//NONSGML v1.0//EN
CALSCALE:GREGORIAN
METHOD:PUBLISH
X-WR-CALNAME:UPS
X-ORIGINAL-URL:https://umeapostdocs.com
X-WR-CALDESC:Events for UPS
REFRESH-INTERVAL;VALUE=DURATION:PT1H
X-Robots-Tag:noindex
X-PUBLISHED-TTL:PT1H
BEGIN:VTIMEZONE
TZID:Europe/Stockholm
BEGIN:DAYLIGHT
TZOFFSETFROM:+0100
TZOFFSETTO:+0200
TZNAME:CEST
DTSTART:20220327T010000
END:DAYLIGHT
BEGIN:STANDARD
TZOFFSETFROM:+0200
TZOFFSETTO:+0100
TZNAME:CET
DTSTART:20221030T010000
END:STANDARD
BEGIN:DAYLIGHT
TZOFFSETFROM:+0100
TZOFFSETTO:+0200
TZNAME:CEST
DTSTART:20230326T010000
END:DAYLIGHT
BEGIN:STANDARD
TZOFFSETFROM:+0200
TZOFFSETTO:+0100
TZNAME:CET
DTSTART:20231029T010000
END:STANDARD
BEGIN:DAYLIGHT
TZOFFSETFROM:+0100
TZOFFSETTO:+0200
TZNAME:CEST
DTSTART:20240331T010000
END:DAYLIGHT
BEGIN:STANDARD
TZOFFSETFROM:+0200
TZOFFSETTO:+0100
TZNAME:CET
DTSTART:20241027T010000
END:STANDARD
END:VTIMEZONE
BEGIN:VEVENT
DTSTART;TZID=Europe/Stockholm:20230601T141500
DTEND;TZID=Europe/Stockholm:20230601T151500
DTSTAMP:20260425T023215
CREATED:20230530T201058Z
LAST-MODIFIED:20230530T201241Z
UID:4600-1685628900-1685632500@umeapostdocs.com
SUMMARY:UCMR Distinguished Guest Seminar
DESCRIPTION:Within the framework of the UCMR Distinguished Guests Seminars Series\, Professor Herbert Waldmann gives a lecture on pseudo-natural products that can be regarded as the human-made equivalent of natural product evolution
URL:https://umeapostdocs.com/event/ucmr-distinguished-guest-seminar/
CATEGORIES:University
END:VEVENT
END:VCALENDAR