BEGIN:VCALENDAR
VERSION:2.0
PRODID:-//UPS - ECPv6.15.20//NONSGML v1.0//EN
CALSCALE:GREGORIAN
METHOD:PUBLISH
X-WR-CALNAME:UPS
X-ORIGINAL-URL:https://umeapostdocs.com
X-WR-CALDESC:Events for UPS
REFRESH-INTERVAL;VALUE=DURATION:PT1H
X-Robots-Tag:noindex
X-PUBLISHED-TTL:PT1H
BEGIN:VTIMEZONE
TZID:Europe/Stockholm
BEGIN:DAYLIGHT
TZOFFSETFROM:+0100
TZOFFSETTO:+0200
TZNAME:CEST
DTSTART:20230326T010000
END:DAYLIGHT
BEGIN:STANDARD
TZOFFSETFROM:+0200
TZOFFSETTO:+0100
TZNAME:CET
DTSTART:20231029T010000
END:STANDARD
BEGIN:DAYLIGHT
TZOFFSETFROM:+0100
TZOFFSETTO:+0200
TZNAME:CEST
DTSTART:20240331T010000
END:DAYLIGHT
BEGIN:STANDARD
TZOFFSETFROM:+0200
TZOFFSETTO:+0100
TZNAME:CET
DTSTART:20241027T010000
END:STANDARD
BEGIN:DAYLIGHT
TZOFFSETFROM:+0100
TZOFFSETTO:+0200
TZNAME:CEST
DTSTART:20250330T010000
END:DAYLIGHT
BEGIN:STANDARD
TZOFFSETFROM:+0200
TZOFFSETTO:+0100
TZNAME:CET
DTSTART:20251026T010000
END:STANDARD
END:VTIMEZONE
BEGIN:VEVENT
DTSTART;TZID=Europe/Stockholm:20240720T080000
DTEND;TZID=Europe/Stockholm:20240726T170000
DTSTAMP:20260421T181737
CREATED:20240119T131344Z
LAST-MODIFIED:20240119T131344Z
UID:5293-1721462400-1722013200@umeapostdocs.com
SUMMARY:Innovation Cup Summer Camp for PhD Students and postdocs
DESCRIPTION:The Innovation Cup is aimed at post-graduate students and postdocs worldwide who are interested in the pharmaceutical and chemical industry. It is organized by the company Merck KGaA and held near Frankfurt\, Germany. Participants will enjoy lectures and the opportunity to develop an idea into a finished project plan together with their team. Participating teams can win 20\,000 euros for the most convincing project plan. \nPhD students and postdocs in biology\, chemistry\, physics\, medicine\, biotechnology\, computer science\, data sciences\, biochemistry\, pharmacy\, engineering\, or related fields are invited to apply. \nDeadline to register is January 31st\, 2024
URL:https://umeapostdocs.com/event/innovation-cup-summer-camp-for-phd-students-and-postdocs/
CATEGORIES:Career Development,University
END:VEVENT
END:VCALENDAR